BEGIN:VCALENDAR
METHOD:PUBLISH
PRODID:-//LogicWorks GmbH//NONSGML Contentory//EN
VERSION:2.0
CALSCALE:GREGORIAN
X-MS-OLK-FORCEINSPECTOROPEN:TRUE
BEGIN:VEVENT
DTSTAMP:20260421T104537Z
SUMMARY:Canada to Germany Digital Health Technology Accelerator Showcase
DESCRIPTION:Die ZENIT GmbH lädt gemeinsam mit dem Kanadischen Konsulat und Medizin.NR
 W zu einer Leistungsschau innovativer digitaler Gesundheitslösungen ein. 
 Die englischsprachige Veranstaltung unterstützt die Zusammenarbeit und Ve
 rnetzung von kanadischen und deutschen Akteuren der digitalen Gesundheitsv
 ersorgung.
LOCATION:Mülheim an der Ruhr
CREATED:20230820T123607
LAST-MODIFIED:20230820T124424
DTSTART;VALUE=DATE:20230925T140000
DTEND;VALUE=DATE:20230925T163000
UID:sn_238_date_0@logic-works.net
END:VEVENT
END:VCALENDAR