BEGIN:VCALENDAR
METHOD:PUBLISH
PRODID:-//LogicWorks GmbH//NONSGML Contentory//EN
VERSION:2.0
CALSCALE:GREGORIAN
X-MS-OLK-FORCEINSPECTOROPEN:TRUE
BEGIN:VEVENT
DTSTAMP:20260421T100554Z
SUMMARY:Care and Mobility Innovation: Ergebnisse – Erfolge – Perspektiven
DESCRIPTION:Wie lassen sich digitale Gesundheitswirtschaft und intelligente Mobilität
  zusammenführen und sinnvoll realisieren? Das Projekt Care and Mobility I
 nnovation lädt zur Abschlussveranstaltung am 16. März 2023 ein.
LOCATION:Aachen
CREATED:20230120T151630
LAST-MODIFIED:20230120T165956
DTSTART;VALUE=DATE:20230316T160000
DTEND;VALUE=DATE:20230316T190000
UID:sn_202_date_0@logic-works.net
END:VEVENT
END:VCALENDAR